BEGIN:VCALENDAR
VERSION:2.0
PRODID:-//Tukios.com/
BEGIN:VEVENT
UID:e425c5f8-6ead-4303-b3b3-ba1ec003ee43@www.gsesfuneralhomes.com
DTSTAMP:20260422T004500Z
DTSTART:20260429T140000Z
DTEND:20260429T150000Z
SUMMARY:Visitation
DESCRIPTION:
URL:https://www.gsesfuneralhomes.com/obituaries/diane-thomas
LOCATION:Ebling-Stabingas Funeral Home 26 Chestnut Street  Cressona PA 
	17929
GEO:40.6296737;-76.1964183
END:VEVENT
END:VCALENDAR