BEGIN:VCALENDAR
VERSION:2.0
PRODID:-//Tukios.com/
BEGIN:VEVENT
UID:27d2dffe-836f-4cca-97ef-7797a3201524@www.gsesfuneralhomes.com
DTSTAMP:20260422T004218Z
DTSTART:20260429T150000Z
DTEND:20260429T160000Z
SUMMARY:Celebration of Life
DESCRIPTION:
URL:https://www.gsesfuneralhomes.com/obituaries/diane-thomas
LOCATION:Ebling-Stabingas Funeral Home 26 Chestnut Street  Cressona PA 
	17929
GEO:40.6296737;-76.1964183
END:VEVENT
END:VCALENDAR