BEGIN:VCALENDAR
VERSION:2.0
PRODID:-//Tukios.com/
BEGIN:VEVENT
UID:06efe2e4-ad10-4656-9c0a-6dd9852de3e2@www.gsesfuneralhomes.com
DTSTAMP:20260422T190529Z
DTSTART:20260505T150000Z
DTEND:20260505T160000Z
SUMMARY:Graveside Service
DESCRIPTION:
URL:https://www.gsesfuneralhomes.com/obituaries/geraldine-schneck
LOCATION:Indiantown Gap National Cemetery 60 Indiantown Gap Road  
	Annville PA 17003
GEO:40.4206752;-76.5676071
END:VEVENT
END:VCALENDAR