BEGIN:VCALENDAR
VERSION:2.0
PRODID:-//Tukios.com/
BEGIN:VEVENT
UID:1767e9b6-8876-480b-8fc9-6b5a2b4e5cc4@www.gsesfuneralhomes.com
DTSTAMP:20260422T103011Z
DTSTART:20260424T140000Z
DTEND:20260424T150000Z
SUMMARY:Visitation
DESCRIPTION:
URL:https://www.gsesfuneralhomes.com/obituaries/jean-hoover
LOCATION:Ebling-Stabingas Funeral Home 26 Chestnut Street  Cressona PA 
	17929
GEO:40.6296737;-76.1964183
END:VEVENT
END:VCALENDAR