BEGIN:VCALENDAR
VERSION:2.0
PRODID:-//Tukios.com/
BEGIN:VEVENT
UID:5370bbbb-1c4d-44c5-b507-5acbf87df6a4@www.gsesfuneralhomes.com
DTSTAMP:20260422T103011Z
DTSTART:20260424T150000Z
DTEND:20260424T160000Z
SUMMARY:Funeral Service
DESCRIPTION:
URL:https://www.gsesfuneralhomes.com/obituaries/jean-hoover
LOCATION:Ebling-Stabingas Funeral Home 26 Chestnut Street  Cressona PA 
	17929
GEO:40.6296737;-76.1964183
END:VEVENT
END:VCALENDAR