BEGIN:VCALENDAR
VERSION:2.0
PRODID:-//Tukios.com/
BEGIN:VEVENT
UID:7fef32a5-c362-42bb-9a02-408139c43371@www.gsesfuneralhomes.com
DTSTAMP:20260423T174921Z
DTSTART:20260427T143000Z
DTEND:20260427T153000Z
SUMMARY:Celebration of Life
DESCRIPTION:
URL:https://www.gsesfuneralhomes.com/obituaries/robin-lynch
LOCATION:Geschwindt Stabingas Ebling Funeral Home, Inc. 25 East Main 
	Street  Schuylkill Haven PA 17972
GEO:40.6298635;-76.1723668
END:VEVENT
END:VCALENDAR