BEGIN:VCALENDAR
VERSION:2.0
PRODID:-//Tukios.com/
BEGIN:VEVENT
UID:f03b43f2-f7d8-4621-a899-2caab153e3b4@www.gsesfuneralhomes.com
DTSTAMP:20260423T174347Z
DTSTART:20260427T133000Z
DTEND:20260427T143000Z
SUMMARY:Viewing
DESCRIPTION:
URL:https://www.gsesfuneralhomes.com/obituaries/robin-lynch
LOCATION:Geschwindt Stabingas Ebling Funeral Home, Inc. 25 East Main 
	Street  Schuylkill Haven PA 17972
GEO:40.6298635;-76.1723668
END:VEVENT
END:VCALENDAR